BEGIN:VCALENDAR
VERSION:2.0
PRODID:-//Minnesota Corn Growers Association - ECPv6.15.20//NONSGML v1.0//EN
CALSCALE:GREGORIAN
METHOD:PUBLISH
X-WR-CALNAME:Minnesota Corn Growers Association
X-ORIGINAL-URL:https://www.mncorn.org
X-WR-CALDESC:Events for Minnesota Corn Growers Association
REFRESH-INTERVAL;VALUE=DURATION:PT1H
X-Robots-Tag:noindex
X-PUBLISHED-TTL:PT1H
BEGIN:VTIMEZONE
TZID:America/Chicago
BEGIN:DAYLIGHT
TZOFFSETFROM:-0600
TZOFFSETTO:-0500
TZNAME:CDT
DTSTART:20240310T080000
END:DAYLIGHT
BEGIN:STANDARD
TZOFFSETFROM:-0500
TZOFFSETTO:-0600
TZNAME:CST
DTSTART:20241103T070000
END:STANDARD
BEGIN:DAYLIGHT
TZOFFSETFROM:-0600
TZOFFSETTO:-0500
TZNAME:CDT
DTSTART:20250309T080000
END:DAYLIGHT
BEGIN:STANDARD
TZOFFSETFROM:-0500
TZOFFSETTO:-0600
TZNAME:CST
DTSTART:20251102T070000
END:STANDARD
BEGIN:DAYLIGHT
TZOFFSETFROM:-0600
TZOFFSETTO:-0500
TZNAME:CDT
DTSTART:20260308T080000
END:DAYLIGHT
BEGIN:STANDARD
TZOFFSETFROM:-0500
TZOFFSETTO:-0600
TZNAME:CST
DTSTART:20261101T070000
END:STANDARD
END:VTIMEZONE
BEGIN:VEVENT
DTSTART;TZID=America/Chicago:20250403T083000
DTEND;TZID=America/Chicago:20250403T123000
DTSTAMP:20260424T181601
CREATED:20241024T203244Z
LAST-MODIFIED:20241024T203244Z
UID:31645-1743669000-1743683400@www.mncorn.org
SUMMARY:Ag-Focused safeTALK Training - Twin Valley
DESCRIPTION:Agriculture-focused safeTALK is a 4-hour training in suicide alertness skills. This training will focus on farm/ranch stress and being suicide alert. Learn four basic steps to create a life-saving connection. Widely used by professionals and the general public. \nIf you know\, work with\, or are an ag producer…this training is for you! \nSponsored by Northwest Minnesota Foundation \nRegister here.
URL:https://www.mncorn.org/single-event/ag-focused-safetalk-training-twin-valley/
LOCATION:The Grove Restaurant\, 104 Main Avenue East\, Twin Valley\, MN\, 56584
CATEGORIES:General Ag Events
END:VEVENT
BEGIN:VEVENT
DTSTART;TZID=America/Chicago:20250404T160000
DTEND;TZID=America/Chicago:20250404T180000
DTSTAMP:20260424T181601
CREATED:20250314T184501Z
LAST-MODIFIED:20250314T185230Z
UID:32731-1743782400-1743789600@www.mncorn.org
SUMMARY:Todd County Corn & Soybean Growers Fuel Event
DESCRIPTION:The Todd County Corn & Soybean growers will be holding a fuel event on Friday\, April 4 from 4:00pm – 6:00pm. \n  \nLocation: Little Duke’s in Long Prairie \n645 Lake St S\, Long Prairie\, MN 56347 \n  \nDiscounts Offered: \nE-15 – $1.15 off/gal\nE-30 – $1.30 off/gal\nE-85 – $0.85/ gal\nBiodiesel – $1.20 off/gal \n  \n*Free Meat Packages will be given out* \nSponsored by the Beef Council
URL:https://www.mncorn.org/single-event/stearns-county-corn-growers-annual-meeting-3/
LOCATION:Coborn’s Little Dukes (645 Lake St S\, Long Prairie\, MN 56347)\, 645 Lake St S\, Long Prairie\, 56347\, United States
CATEGORIES:County Events
END:VEVENT
BEGIN:VEVENT
DTSTART;VALUE=DATE:20250407
DTEND;VALUE=DATE:20250408
DTSTAMP:20260424T181601
CREATED:20241118T205052Z
LAST-MODIFIED:20241118T205052Z
UID:31782-1743984000-1744070399@www.mncorn.org
SUMMARY:Nobles County Corn & Soybean Growers Annual Meeting
DESCRIPTION:The Nobles County Corn & Soybean Growers are holding their annual meeting on April 7th. \nDetails TBD. Hope to see you there! \n 
URL:https://www.mncorn.org/single-event/nobles-county-corn-soybean-growers-annual-meeting-3/
CATEGORIES:County Events
END:VEVENT
BEGIN:VEVENT
DTSTART;TZID=America/Chicago:20250407T180000
DTEND;TZID=America/Chicago:20250407T180000
DTSTAMP:20260424T181601
CREATED:20250324T152522Z
LAST-MODIFIED:20250324T152522Z
UID:32796-1744048800-1744048800@www.mncorn.org
SUMMARY:Waseca County Corn & Soybean Growers Annual Meeting
DESCRIPTION:Join the Waseca County Corn & Soybean Growers at their annual meeting on Monday\, April 7 at Ward House Brewery in Waseca! \n  \nLocation: Ward House Brewery – 308 S State St Waseca\, MN \n  \nSchedule: 6:00pm Social \n6:15pm Annual Meeting \n6:30pm Supper\, Entertainment to follow \n  \nWaseca FY25 Annual Postcard
URL:https://www.mncorn.org/single-event/waseca-county-corn-soybean-growers-annual-meeting/
LOCATION:Ward House Brewery\, 308 S State St\, Waseca\, MN\, 56093
CATEGORIES:County Events
END:VEVENT
BEGIN:VEVENT
DTSTART;TZID=America/Chicago:20250409T080000
DTEND;TZID=America/Chicago:20250409T120000
DTSTAMP:20260424T181601
CREATED:20250402T212303Z
LAST-MODIFIED:20250402T212303Z
UID:32836-1744185600-1744200000@www.mncorn.org
SUMMARY:MCGA/MCR&PC Joint Board meeting (virtual)
DESCRIPTION:See the agenda here.
URL:https://www.mncorn.org/single-event/mcga-mcrpc-joint-board-meeting-virtual/
CATEGORIES:MCGA Events
END:VEVENT
BEGIN:VEVENT
DTSTART;TZID=America/Chicago:20250410T083000
DTEND;TZID=America/Chicago:20250410T123000
DTSTAMP:20260424T181601
CREATED:20241024T203353Z
LAST-MODIFIED:20241024T203353Z
UID:31648-1744273800-1744288200@www.mncorn.org
SUMMARY:Ag-Focused safeTALK Training - Grygla
DESCRIPTION:Agriculture-focused safeTALK is a 4-hour training in suicide alertness skills. This training will focus on farm/ranch stress and being suicide alert. Learn four basic steps to create a life-saving connection. Widely used by professionals and the general public. \nIf you know\, work with\, or are an ag producer…this training is for you! \nSponsored by Northwest Minnesota Foundation \nRegister here.
URL:https://www.mncorn.org/single-event/ag-focused-safetalk-training-grygla/
LOCATION:The Hound Pub and Dining\, 411 West State Street\, Grygla\, MN\, 56727
CATEGORIES:General Ag Events
END:VEVENT
BEGIN:VEVENT
DTSTART;TZID=America/Chicago:20250415T110000
DTEND;TZID=America/Chicago:20250415T130000
DTSTAMP:20260424T181601
CREATED:20250219T143757Z
LAST-MODIFIED:20250411T150811Z
UID:32441-1744714800-1744722000@www.mncorn.org
SUMMARY:Stearns County Corn Growers Annual Meeting
DESCRIPTION:Join the Stearns County Corn Growers at their annual meeting on April 15th at the Greenwald Pub! The annual meeting will start at 11:00am followed by lunch at noon. \n  \nLocation: Greenwald Pub \n310 1st Ave N\, Greenwald\, MN 56335 \n  \nSpeakers: \nSteve Frericks – FSA County Executive Director \n  \nAlex Trunnel – Public Policy Manager at Minnesota Corn
URL:https://www.mncorn.org/single-event/todd-county-corn-soybean-growers-annual-meeting-5/
LOCATION:Greenwald Pub\, 310 1st Ave N\, Greenwald\, MN\, 56335\, United States
CATEGORIES:County Events
END:VEVENT
END:VCALENDAR