BEGIN:VCALENDAR
VERSION:2.0
PRODID:-//Minnesota Corn Growers Association - ECPv6.15.20//NONSGML v1.0//EN
CALSCALE:GREGORIAN
METHOD:PUBLISH
X-ORIGINAL-URL:https://www.mncorn.org
X-WR-CALDESC:Events for Minnesota Corn Growers Association
REFRESH-INTERVAL;VALUE=DURATION:PT1H
X-Robots-Tag:noindex
X-PUBLISHED-TTL:PT1H
BEGIN:VTIMEZONE
TZID:America/Chicago
BEGIN:DAYLIGHT
TZOFFSETFROM:-0600
TZOFFSETTO:-0500
TZNAME:CDT
DTSTART:20240310T080000
END:DAYLIGHT
BEGIN:STANDARD
TZOFFSETFROM:-0500
TZOFFSETTO:-0600
TZNAME:CST
DTSTART:20241103T070000
END:STANDARD
BEGIN:DAYLIGHT
TZOFFSETFROM:-0600
TZOFFSETTO:-0500
TZNAME:CDT
DTSTART:20250309T080000
END:DAYLIGHT
BEGIN:STANDARD
TZOFFSETFROM:-0500
TZOFFSETTO:-0600
TZNAME:CST
DTSTART:20251102T070000
END:STANDARD
BEGIN:DAYLIGHT
TZOFFSETFROM:-0600
TZOFFSETTO:-0500
TZNAME:CDT
DTSTART:20260308T080000
END:DAYLIGHT
BEGIN:STANDARD
TZOFFSETFROM:-0500
TZOFFSETTO:-0600
TZNAME:CST
DTSTART:20261101T070000
END:STANDARD
END:VTIMEZONE
BEGIN:VEVENT
DTSTART;TZID=America/Chicago:20250805T110000
DTEND;TZID=America/Chicago:20250805T110000
DTSTAMP:20260424T100809
CREATED:20250714T182454Z
LAST-MODIFIED:20250714T182454Z
UID:33467-1754391600-1754391600@www.mncorn.org
SUMMARY:22nd Annual Freeborn County Ag Open & Freeborn County Corn & Soybean Growers Annual Meeting
DESCRIPTION:Join the Freeborn County Corn & Soybean Growers at their 22nd annual Ag Open & Annual Meeting on Tuesday\, August 5th! \n  \nLocation: Green Lea Golf Course \n101 E Richway Dr\, Albert Lea\, MN 56007 \n  \nSchedule: Annual meeting – 11:00am \nAg Open (rain or shine) – 1:00pm \n  \nAdditional Details: \n4 Person Best Shot \nShot Gun Start \n18 holes of golf\, 2 meals & cart – $100 per person \nHole Sponsorship – $100 (all money earned goes toward ag scholarships) \nQuestions? Please contact Daniel Erickson at 507-383-8389 \n2025 Ag Open Brochure
URL:https://www.mncorn.org/single-event/22nd-annual-freeborn-county-ag-open-freeborn-county-corn-soybean-growers-annual-meeting/
LOCATION:Green Lea Golf Course\, Albert Lea\, MN\, 101 E Richway Dr\, Albert Lea\, MN\, 56007\, United States
CATEGORIES:County Events
END:VEVENT
BEGIN:VEVENT
DTSTART;TZID=America/Chicago:20250805T120000
DTEND;TZID=America/Chicago:20250805T120000
DTSTAMP:20260424T100809
CREATED:20250722T182046Z
LAST-MODIFIED:20250722T182046Z
UID:33524-1754395200-1754395200@www.mncorn.org
SUMMARY:Faribault County Corn & Soybean Growers Ag Open
DESCRIPTION:The Faribault County Corn & Soybean Growers are hosting their Ag Open at the Riverside Town & County Club on August 5th. \n  \nLocation: Riverside Town & Country Club \n36259 150th St\, Blue Earth\, MN 56013 \n  \nSchedule:\n12:00pm Registration \n1:00pm Shotgun Start \n5:00pm Meal and Door Prizes \n  \nContact Lars Bierly or Minn-Iowa Agency to register a team at 507-526-7394. Please call Riverside to reserve a cart. \n  \nIf you would like to become a sponsor\, connect with Jeff Ignaszewski at 507-317-1977 \n  \nFaribault County Golf Postcard 2025
URL:https://www.mncorn.org/single-event/faribault-county-corn-soybean-growers-ag-open/
LOCATION:Riverside Town & Country Club\, Blue Earth\, MN\, 36259 150th St\, Blue\, MN\, 56013\, United States
CATEGORIES:County Events
END:VEVENT
BEGIN:VEVENT
DTSTART;TZID=America/Chicago:20250811T100000
DTEND;TZID=America/Chicago:20250811T140000
DTSTAMP:20260424T100809
CREATED:20250611T182723Z
LAST-MODIFIED:20250611T182723Z
UID:33277-1754906400-1754920800@www.mncorn.org
SUMMARY:4-H Plant Science Summer Field Days - Angora
DESCRIPTION:For youth in grades 3+ (families welcome): We’re excited to promote a brand new in-person opportunity for youth to experience the world of crop scouting up close and personal! Join University of Minnesota Extension for Minnesota 4-H Plant Science Summer Field Days and get hands-on experience. \nWhether you’re a future agronomist or just plant-curious\, this field day is your backstage pass to the science behind the crops! \nTime: 10:00 AM – 2:00 PM\, Lunch Provided \n\n4-H members: Register in 4-H Online by June 30. For assistance\, refer to the event registration guide or contact your local Extension educator.\nNon-members: Complete the online form by June 30 to register.
URL:https://www.mncorn.org/single-event/4-h-plant-science-summer-field-days-lamberton-2-2-2-2/
LOCATION:Pearson Farm\, 1302 Samuelson Rd\, Angora\, MN\, 55703-8354\, United States
END:VEVENT
BEGIN:VEVENT
DTSTART;TZID=America/Chicago:20250811T110000
DTEND;TZID=America/Chicago:20250811T130000
DTSTAMP:20260424T100809
CREATED:20250725T135529Z
LAST-MODIFIED:20250725T135529Z
UID:33552-1754910000-1754917200@www.mncorn.org
SUMMARY:Lyon County Corn & Soybean Growers Fuel Promotion Event
DESCRIPTION:The Lyon County Corn & Soybean Growers are holding a fuel promotion event on Monday\, August 11 from 11:00-1:00pm at the AgPlus in Marshall! We hope to see you there! \n  \nLocation: Marshall AgPlus \n1100 E Main St\, Marshall\, MN \n  \nDiscounts Offered \n$0.85 off/gal of E-85 \n$0.88 off/gal of Unleaded 88
URL:https://www.mncorn.org/single-event/lyon-county-corn-soybean-growers-fuel-promotion-event/
LOCATION:AgPlus Marshall\, 1100 E Main St\, Marshall\, MN\, 56258
CATEGORIES:County Events
END:VEVENT
BEGIN:VEVENT
DTSTART;TZID=America/Chicago:20250812T083000
DTEND;TZID=America/Chicago:20250812T144500
DTSTAMP:20260424T100809
CREATED:20250721T213449Z
LAST-MODIFIED:20250721T213449Z
UID:33511-1754987400-1755009900@www.mncorn.org
SUMMARY:4R Soil Stewardship and Nutrient Management Field Day
DESCRIPTION:Learn more here.
URL:https://www.mncorn.org/single-event/4r-soil-stewardship-and-nutrient-management-field-day/
LOCATION:Brandon Fast Farm\, 93898 570th Avenue\, Mountain Lake\, Minnesota
CATEGORIES:Educational/Learning Opportunities
END:VEVENT
BEGIN:VEVENT
DTSTART;TZID=America/Chicago:20250812T173000
DTEND;TZID=America/Chicago:20250812T173000
DTSTAMP:20260424T100809
CREATED:20250725T140719Z
LAST-MODIFIED:20250725T140719Z
UID:33556-1755019800-1755019800@www.mncorn.org
SUMMARY:Chippewa County Corn & Soybean Growers Annual Meeting
DESCRIPTION:The Chippewa County Corn & Soybean Growers are holding their annual meeting on Tuesday\, August 12 at the Maynard Event Center. Join us for a meal\, annual meeting and entertainment from comedian Jerry Carroll. \n  \nLocation: Maynard Event Center \n341 Cynthia St\, Maynard\, MN 56260 \n  \nSchedule: 5:30pm Social \n6:00pm – Steak Supper from Cattlemen’s Association \n7:00pm – Annual Meeting with updates from MN Corn & MN Soybean \n7:30pm – Comedian Jerry Carroll \n  \nAbout the Speaker: \nAlso known as the “Willow Spring Wildman\,” Jerry Carroll is a comedian\, speaker and farmer from North Carolina. He has performed coast to coast at comedy clubs and corporate events telling his story of life on the farm. \n  \nPlease RSVP by August 6 by contacting Mike Bosch at 320-894-0485 \n  \nChippewa Annual Postcard 8.5×5.5
URL:https://www.mncorn.org/single-event/chippewa-county-corn-soybean-growers-annual-meeting/
LOCATION:Maynard Event Center\, 341 Cynthia St\, Maynard\, MN\, 56260 
CATEGORIES:County Events
END:VEVENT
BEGIN:VEVENT
DTSTART;TZID=America/Chicago:20250813T160000
DTEND;TZID=America/Chicago:20250813T180000
DTSTAMP:20260424T100809
CREATED:20250630T144618Z
LAST-MODIFIED:20250718T152607Z
UID:33406-1755100800-1755108000@www.mncorn.org
SUMMARY:Kandiyohi County Corn & Soybean Growers Annual Meeting
DESCRIPTION:Join the Kandiyohi County Corn & Soybean Growers at their annual meeting on Wednesday\, August 13th at the Foxhole Brewhouse! \n  \nLocation: Foxhole Brewhouse \n905 Hwy 71\, NE\, Wilmar\, MN \n  \nSchedule: Social Hour – 4:00-6:00pm \nAnnual Meeting – 5:30pm \n  \nAbout the Event: Meet and greet with members of the Kandiyohi County Corn & Soybean Growers\, as well as representatives from Minnesota Corn Growers and Minnesota Soybean Growers organizations. Receive up to (2) $25 Foxhole Brewhouse gift cards for verifying and/or renewing MCGA & MSGA membership. \n  \nKandiyohi Annual Postcard 8.5×5.5 \n  \n 
URL:https://www.mncorn.org/single-event/kandiyohi-county-corn-soybean-growers-annual-meeting-3/
LOCATION:Foxhole Brewhouse\, 905 Hwy 71 NE\, Wilmar\, MN\, 56201
CATEGORIES:County Events
END:VEVENT
BEGIN:VEVENT
DTSTART;TZID=America/Chicago:20250814T150000
DTEND;TZID=America/Chicago:20250814T170000
DTSTAMP:20260424T100809
CREATED:20250722T181317Z
LAST-MODIFIED:20250722T181317Z
UID:33521-1755183600-1755190800@www.mncorn.org
SUMMARY:Dodge County Corn & Soybean Growers Fuel Promotion Event
DESCRIPTION:The Dodge County Corn & Soybean Growers are hosting a fuel event at the Kwik Trip in Kasson on Thursday\, August 14th from 3:00-5:00pm! \n  \nLocation: Kasson Kwik Trip \n200 8th St SE\, Kasson\, MN \n  \nDiscounts Offered: \nUnleaded 88 – $0.88 off per gallon \nE85 – $0.85 off per gallon
URL:https://www.mncorn.org/single-event/dodge-county-corn-soybean-growers-fuel-promotion-event/
LOCATION:Kasson Kwik Trip\, 200 8th St SE\, Kasson\, MN\, 55944\, United States
CATEGORIES:County Events
END:VEVENT
BEGIN:VEVENT
DTSTART;TZID=America/Chicago:20250815T090000
DTEND;TZID=America/Chicago:20250815T090000
DTSTAMP:20260424T100809
CREATED:20250624T152654Z
LAST-MODIFIED:20250624T152654Z
UID:33386-1755248400-1755248400@www.mncorn.org
SUMMARY:Stearns County Corn Growers 26th Annual Golf Tournament
DESCRIPTION:Join the Stearns County Corn Growers for their 26th Annual Golf Tournament on Friday\, August 15th! 4-person scramble – Cash prizes for the 1st place team\, 2nd & 3rd place is a draw \n  \nLocation: Lynx National Golf Course \n40204 Primrose Ln\, Sauk Centre\, MN 56378 \n  \nSchedule: \n9:15-10:15am Check In \n10:30am Tee Off
URL:https://www.mncorn.org/single-event/stearns-county-corn-growers-26th-annual-golf-tournament/
LOCATION:Lynx National Golf Course\, Sauk Centre\, 40204 Primrose Lane\, Sauk Centre\, MN\, 56378\, United States
CATEGORIES:County Events
END:VEVENT
BEGIN:VEVENT
DTSTART;TZID=America/Chicago:20250815T090000
DTEND;TZID=America/Chicago:20250815T090000
DTSTAMP:20260424T100809
CREATED:20250722T180739Z
LAST-MODIFIED:20250722T180739Z
UID:33518-1755248400-1755248400@www.mncorn.org
SUMMARY:Dodge County Corn & Soybean Growers Cobs & Pods Golf Tournament
DESCRIPTION:Join the Dodge County Corn & Soybean Growers at their Cobs & Pods Golf Tournament on August 15th at the Oaks Golf Club! \n  \nLocation: Oaks Golf Club \n73671 170th Ave\, Hayfield\, MN 55940 \n  \nSchedule: 9:00am registration \n10:00am shotgun start \nNoon lunch on the go \n  \n18 Hole – 4 Person Scramble  – $100 per Golfer \nPre-register via text to Tyler Anderson at 507-316-4218 \nWalk-in registrations welcome! \nCash or check is preferred payment method \n  \n2025 Dodge Cobs & Pods Golf Tournament
URL:https://www.mncorn.org/single-event/dodge-county-corn-soybean-growers-cobs-pods-golf-tournament/
LOCATION:The Oaks Golf Club\, 73671 170th Ave\, Hayfield\, MN\, 55940
CATEGORIES:County Events
END:VEVENT
BEGIN:VEVENT
DTSTART;TZID=America/Chicago:20250819T120000
DTEND;TZID=America/Chicago:20250819T120000
DTSTAMP:20260424T100809
CREATED:20250714T183805Z
LAST-MODIFIED:20250714T183836Z
UID:33471-1755604800-1755604800@www.mncorn.org
SUMMARY:Oinker Open Scramble for Scholarships
DESCRIPTION:Join the Dakota/Rice Corn & Soybean Growers in cooperation with the Rice County Pork Producers at the Oinker Open Scramble for Scholarships on Tuesday\, August 19th! \n  \nLocation: The Summit Golf Club \n31286 Hwy 19 Blvd\, Cannon Falls\, MN 55009 \n  \nSchedule: Noon lunch \n1:00pm – Shotgun Start \n6:30pm Social Hour & Awards Ceremony (various hole & score prizes will be awarded) \n  \nDetails: \n$90.00/person entry fee \n18 hole\, 4 person scramble \nContact Jeff Schultz for additional information or questions at 507-838-7459 or hevmando@gmail.com \n  \n2025 Invite
URL:https://www.mncorn.org/single-event/oinker-open-scramble-for-scholarships-2/
LOCATION:The Summit Golf Club\, Cannon Falls\, MN\, 31286 Hwy 19 Blvd\, Cannon Falls\, MN\, 55009\, United States
CATEGORIES:County Events
END:VEVENT
BEGIN:VEVENT
DTSTART;TZID=America/Chicago:20250828T170000
DTEND;TZID=America/Chicago:20250828T200000
DTSTAMP:20260424T100809
CREATED:20250624T153633Z
LAST-MODIFIED:20250729T153511Z
UID:33388-1756400400-1756411200@www.mncorn.org
SUMMARY:Meeker County Corn Growers Porkchop Picnic Member Appreciation
DESCRIPTION:The Meeker County Corn Growers are hosting their annual member picnic on Thursday\, August 28 from 5:00-8:00pm at the Meeker County Fairgrounds in Litchfield! Join us for porkchops and great conversation! \n  \nLocation: Meeker County Fairgrounds \n1230 N Armstrong Ave\, Litchfield\, MN 55355 \n  \nMeeker County Membership Picnic Postcard 2025 (1)
URL:https://www.mncorn.org/single-event/meeker-county-corn-growers-porkchop-picnic-member-appreciation/
LOCATION:Meeker County Fairgrounds\, 1230 N Armstrong Ave\, Litchfield\, Minnesota\, 55355
CATEGORIES:County Events
END:VEVENT
END:VCALENDAR