BEGIN:VCALENDAR
VERSION:2.0
PRODID:-//Minnesota Corn Growers Association - ECPv6.15.20//NONSGML v1.0//EN
CALSCALE:GREGORIAN
METHOD:PUBLISH
X-ORIGINAL-URL:https://www.mncorn.org
X-WR-CALDESC:Events for Minnesota Corn Growers Association
REFRESH-INTERVAL;VALUE=DURATION:PT1H
X-Robots-Tag:noindex
X-PUBLISHED-TTL:PT1H
BEGIN:VTIMEZONE
TZID:America/Chicago
BEGIN:DAYLIGHT
TZOFFSETFROM:-0600
TZOFFSETTO:-0500
TZNAME:CDT
DTSTART:20240310T080000
END:DAYLIGHT
BEGIN:STANDARD
TZOFFSETFROM:-0500
TZOFFSETTO:-0600
TZNAME:CST
DTSTART:20241103T070000
END:STANDARD
BEGIN:DAYLIGHT
TZOFFSETFROM:-0600
TZOFFSETTO:-0500
TZNAME:CDT
DTSTART:20250309T080000
END:DAYLIGHT
BEGIN:STANDARD
TZOFFSETFROM:-0500
TZOFFSETTO:-0600
TZNAME:CST
DTSTART:20251102T070000
END:STANDARD
BEGIN:DAYLIGHT
TZOFFSETFROM:-0600
TZOFFSETTO:-0500
TZNAME:CDT
DTSTART:20260308T080000
END:DAYLIGHT
BEGIN:STANDARD
TZOFFSETFROM:-0500
TZOFFSETTO:-0600
TZNAME:CST
DTSTART:20261101T070000
END:STANDARD
END:VTIMEZONE
BEGIN:VEVENT
DTSTART;TZID=America/Chicago:20250902T170000
DTEND;TZID=America/Chicago:20250902T170000
DTSTAMP:20260424T085555
CREATED:20250819T202923Z
LAST-MODIFIED:20250819T202923Z
UID:33657-1756832400-1756832400@www.mncorn.org
SUMMARY:Olmsted/Wabasha County Corn & Soybean Growers Plot Day
DESCRIPTION:The Olmsted/Wabasha County Corn & Soybean Growers are hosting a plot day on September 2. Tour the plot and enjoy a free dinner! \n  \nSchedule: 5:00pm Registration \n5:30pm Vittles \n  \nLocation: At the plots of Ron\, Serina\, and Jim Speer & Jason LeVan \nFrom Elgin\, take county 25 West to 350th St. Plot is located 1.5 miles north on East side of road. Or 1/2 mile S of Hwy 247 on 350th St. \n  \nRain day location – The Blacktop Bar & Grill in Elgin \n  \nOlmWab Plot Day Postcard 2025 (1)
URL:https://www.mncorn.org/single-event/olmsted-wabasha-county-corn-soybean-growers-plot-day-4/
CATEGORIES:County Events
END:VEVENT
BEGIN:VEVENT
DTSTART;TZID=America/Chicago:20250904T083000
DTEND;TZID=America/Chicago:20250904T160000
DTSTAMP:20260424T085555
CREATED:20250828T142953Z
LAST-MODIFIED:20250828T142953Z
UID:33689-1756974600-1757001600@www.mncorn.org
SUMMARY:MCR&PC/MCGA joint board meeting
DESCRIPTION:View the agenda here.
URL:https://www.mncorn.org/single-event/mcrpc-mcga-joint-board-meeting/
LOCATION:MCGA Office\, Burnsville\, MN\, 500 E Travelers Trail\, Suite 600\, Burnsville\, MN\, 55337\, United States
CATEGORIES:MCGA Events
END:VEVENT
BEGIN:VEVENT
DTSTART;TZID=America/Chicago:20250904T160000
DTEND;TZID=America/Chicago:20250904T180000
DTSTAMP:20260424T085555
CREATED:20250630T184502Z
LAST-MODIFIED:20250819T151705Z
UID:33420-1757001600-1757008800@www.mncorn.org
SUMMARY:Nicollet/Sibley County Corn Growers Fuel Promotion Event
DESCRIPTION:The Nicollet/Sibley County Corn & Soybean Growers are holding a fuel event on Thursday\, September 4 from 4:00-6:00pm at Kwik Trip #466 at 1305 S Minnesota Ave; St. Peter. \n  \nDiscounts: \nUnleaded 88 – $0.88 OFF RETAIL per gallon \nE-85 – $0.85/gallon \n  \nNicolletSibley County Fuel Event – 2025 (2)
URL:https://www.mncorn.org/single-event/nicollet-sibley-county-corn-growers-fuel-promotion-event/
LOCATION:Kwik Trip #466\, 1305 S MINNESOTA AVE\, St. Peter\, Minnesota\, 56082
CATEGORIES:County Events
END:VEVENT
BEGIN:VEVENT
DTSTART;TZID=America/Chicago:20250908T110000
DTEND;TZID=America/Chicago:20250908T110000
DTSTAMP:20260424T085555
CREATED:20250819T202410Z
LAST-MODIFIED:20250819T202410Z
UID:33653-1757329200-1757329200@www.mncorn.org
SUMMARY:Fairbault County Corn & Soybean Growers Plot Day
DESCRIPTION:Join the Fairbault County Corn & Soybean Growers at their plot day on September 8. Come tour the plot and enjoy a free lunch! \n  \nSchedule: 11:00am Plot Tour \nLunch to follow \n  \nLocation: Jeff Ignazewski Farm \n61385 270th St\, Wells\, MN 56097 \n  \nContact the Fairbault County Corn & Soybean Growers for more information at 507-317-1977 \n  \nFaribault Plot Day Postcard 2025
URL:https://www.mncorn.org/single-event/fairbault-county-corn-soybean-growers-plot-day-2/
LOCATION:Jeff Ignaszewski Farm\, 61385 270th Street\, Wells\, MN\, 56097\, United States
CATEGORIES:County Events
END:VEVENT
BEGIN:VEVENT
DTSTART;TZID=America/Chicago:20250909T110000
DTEND;TZID=America/Chicago:20250909T130000
DTSTAMP:20260424T085555
CREATED:20250819T203414Z
LAST-MODIFIED:20250819T203414Z
UID:33661-1757415600-1757422800@www.mncorn.org
SUMMARY:Fillmore County Corn Growers Plot Day & Annual Meeting
DESCRIPTION:Join the Fillmore County Corn Growers for their Annual Meeting and Plot Day! Come tour the plot and enjoy a free lunch\, new and current members welcome! \n  \nDate: September 9th \nSchedule: 11:00am-1:00pm \nLocation: 1/2 mile East of Fountain on County 8. North side of road. Parking on South side by cemetery. \n  \nFillmore Plot Day Postcard 2025 (2)
URL:https://www.mncorn.org/single-event/fillmore-county-corn-growers-plot-day-annual-meeting/
CATEGORIES:County Events
END:VEVENT
BEGIN:VEVENT
DTSTART;TZID=America/Chicago:20250909T150000
DTEND;TZID=America/Chicago:20250909T180000
DTSTAMP:20260424T085555
CREATED:20250819T150903Z
LAST-MODIFIED:20250819T150903Z
UID:33629-1757430000-1757440800@www.mncorn.org
SUMMARY:Morrison/Crow Wing Corn Growers Plot Day
DESCRIPTION:The Morrison/Crow Wing County Corn Growers are hosting their irrigated test plot day on Tuesday\, September 9 from 3:00-6:00pm. \n  \nPlot Location: Quarter mile north of the intersection of state highway 27 and county road 45 (jewel road) (East of Little Falls) \n  \n*A light meal will be provided \n  \nMorrison Crow Wing Test Plot Days 2025 (1)
URL:https://www.mncorn.org/single-event/morrison-crow-wing-corn-growers-plot-day/
CATEGORIES:County Events
END:VEVENT
BEGIN:VEVENT
DTSTART;TZID=America/Chicago:20250911T110000
DTEND;TZID=America/Chicago:20250911T110000
DTSTAMP:20260424T085555
CREATED:20250902T160102Z
LAST-MODIFIED:20250902T160102Z
UID:33697-1757588400-1757588400@www.mncorn.org
SUMMARY:Mower County Corn & Soybean Growers Plot Day
DESCRIPTION:The Mower County Corn & Soybean Growers are hosting a plot day on September 11th\, we hope to see you there! \n  \nSchedule: 11:00am Plot Tour \n12:00pm Steak Lunch \nRootbeer floats to follow lunch\, sponsored by Compeer Financial \n  \nLocation: Corey Hansen Farm\n15588 540th Ave\nAustin\, Minn. 55912 \n  \nMower plot day 2025
URL:https://www.mncorn.org/single-event/mower-county-corn-soybean-growers-plot-day-3/
LOCATION:Corey Hansen Farm\, 15588 540th Ave.\, Austin\, MN\, 55912\, United States
CATEGORIES:County Events
END:VEVENT
BEGIN:VEVENT
DTSTART;TZID=America/Chicago:20250911T173000
DTEND;TZID=America/Chicago:20250911T173000
DTSTAMP:20260424T085555
CREATED:20250819T150159Z
LAST-MODIFIED:20250819T150159Z
UID:33626-1757611800-1757611800@www.mncorn.org
SUMMARY:Nicollet/Sibley County Corn & Soybean Growers Plot Day
DESCRIPTION:The Nicollet/Sibley County Corn & Soybean Growers are holding their annual plot day on Thursday\, September 11 at Dan Widmer’s farm. \n  \nLocation: Dan Widmer’s Farm \n46354 310th St\, Gaylord\, MN 55334 \n  \nSchedule: 5:30pm Supper \n6:00pm Plot Tour & Speaker \n  \nSpeaker: Matthew Pfarr – University of Minnesota Extension Regional Educator\, Crops \n  \nMatt has experience in medical internships\, medical testing\, agriculture research and agriculture production. Matt grew up in Sibley County and enjoys crop production and agriculture networking. \n  \nNicolletSibley County Corn & Soybean Growers Plot Day 2025 (1)
URL:https://www.mncorn.org/single-event/nicollet-sibley-county-corn-soybean-growers-plot-day-4/
LOCATION:Dan Widmer Farm\, 46354 310th St\, Gaylord\, MN\, 55334
CATEGORIES:County Events
END:VEVENT
BEGIN:VEVENT
DTSTART;TZID=America/Chicago:20250912T160000
DTEND;TZID=America/Chicago:20250912T180000
DTSTAMP:20260424T085555
CREATED:20250825T183718Z
LAST-MODIFIED:20250825T183718Z
UID:33670-1757692800-1757700000@www.mncorn.org
SUMMARY:Todd County Corn & Soybean Growers Fuel Promotion Event
DESCRIPTION:Join the Todd County Corn & Soybean Growers at their fall fuel event on Friday\, September 12 from 4:00-6:00pm at Coborn’s/Little Dukes in Long Prairie! There will also be a “Corn Grocery Giveaway” inside Coborn’s from 3:00-5:00pm or until gone! \n  \nLocation: Coborn’s/Little Dukes – Long Prairie \n645 Lake St S\, Long Prairie\, MN 56347 \n  \nDiscounts Offered: \nE-15 – $1.15 off/ gal\nE-30 – $1.30 off/gal\nE-85 – $0.85/gal\nBiodiesel – $1.20 off/gal \n  \nTodd County Fuel Event Fall 2025 (2)
URL:https://www.mncorn.org/single-event/todd-county-corn-soybean-growers-fuel-promotion-event/
LOCATION:Coborn’s Long Prairie\, 645 Lake St S\, Long Prairie\, MN\, 56347
CATEGORIES:County Events
END:VEVENT
BEGIN:VEVENT
DTSTART;TZID=America/Chicago:20250916T090000
DTEND;TZID=America/Chicago:20250916T090000
DTSTAMP:20260424T085555
CREATED:20250711T143549Z
LAST-MODIFIED:20250826T145106Z
UID:33463-1758013200-1758013200@www.mncorn.org
SUMMARY:Benton/Sherburne County Corn Growers 13th Annual Corncob Scramble
DESCRIPTION:The Benton/Sherburne Corn Growers are hosting their annual golf tournament on Tuesday\, September 16! This event is a great opportunity to connect with local farmers and other ag businesses\, and the proceeds will fund their scholarship programs. Enjoy this day of networking and fellowship! \n  \nLocation: Territory Golf Club \n480 55th Ave SE\, St Cloud\, MN 56304 \n  \nSchedule: \nRegistration and Driving Range – 9:00 AM \nAnnouncements – 10:20 AM \nShotgun Start – 10:30 AM \nLunch Basket Provided at “The Shack” \nAwards and Meal – 4:00 PM \n  \nFor more information\, visit https://2025-corncob-scramble.perfectgolfevent.com \n  \nContact Mark with questions at mark.koch@compeer.com \n  \nBentonSherburne Golf Postcard 2025 (1) \n 
URL:https://www.mncorn.org/single-event/benton-sherburne-county-corn-growers-13th-annual-corncob-scramble/
LOCATION:Territory Golf Course\, St Cloud MN\, 480 55th Ave SE\, St Cloud\, MN\, 56304\, United States
CATEGORIES:County Events
END:VEVENT
BEGIN:VEVENT
DTSTART;TZID=America/Chicago:20250916T140000
DTEND;TZID=America/Chicago:20250916T170000
DTSTAMP:20260424T085555
CREATED:20250716T143517Z
LAST-MODIFIED:20250819T151825Z
UID:33480-1758031200-1758042000@www.mncorn.org
SUMMARY:Wright/Hennepin Corn Growers Fuel Promotion Event
DESCRIPTION:The Wright/Hennepin Corn Growers are hosting a fuel promotion event at the Cokato Kwik Trip on September 16 from 2:00-5:00pm! We hope to see you there! \n  \nLocation: Cokato Kwik Trip \n145 Broadway Ave N\, Cokato \n  \nDiscount Offered: $0.88 off/gal of Unleaded 88 \n  \nWrightHennepin County Fuel Event – 2025 (1)
URL:https://www.mncorn.org/single-event/wright-hennepin-corn-growers-fuel-promotion-event/
LOCATION:Cokato Kwik Trip\, 145 Broadway Ave N\, Cokato\, MN\, 55321
CATEGORIES:County Events
END:VEVENT
BEGIN:VEVENT
DTSTART;TZID=America/Chicago:20250924T180000
DTEND;TZID=America/Chicago:20250924T180000
DTSTAMP:20260424T085555
CREATED:20250902T184347Z
LAST-MODIFIED:20250902T184347Z
UID:33702-1758736800-1758736800@www.mncorn.org
SUMMARY:East Central Corn Growers Annual Meeting
DESCRIPTION:Join the East Central Corn Growers for their 2025 Annual Meeting on September 24th at 6:00pm at the Pizza Pub in Princeton. Enjoy a night out with great company\, good food and drinks on us! \n  \nLocation: Pizza Pub \n202 N Rum River Dr\, Princeton\, MN \n  \nEast Central Corn Growers Plot Day 2025
URL:https://www.mncorn.org/single-event/east-central-corn-growers-annual-meeting-4/
LOCATION:Pizza Pub\, 202 N Rum River Dr\, Princeton\, MN\, 55371
CATEGORIES:County Events
END:VEVENT
END:VCALENDAR